BEGIN:VCALENDAR
VERSION:2.0
PRODID:-//Eastside Bar &amp; Grill - ECPv5.16.4//NONSGML v1.0//EN
CALSCALE:GREGORIAN
METHOD:PUBLISH
X-WR-CALNAME:Eastside Bar &amp; Grill
X-ORIGINAL-URL:https://eastsidebarandgrill.com.au
X-WR-CALDESC:Events for Eastside Bar &amp; Grill
BEGIN:VTIMEZONE
TZID:Australia/Sydney
BEGIN:STANDARD
TZOFFSETFROM:+1100
TZOFFSETTO:+1000
TZNAME:AEST
DTSTART:20240406T160000
END:STANDARD
BEGIN:DAYLIGHT
TZOFFSETFROM:+1000
TZOFFSETTO:+1100
TZNAME:AEDT
DTSTART:20241005T160000
END:DAYLIGHT
BEGIN:STANDARD
TZOFFSETFROM:+1100
TZOFFSETTO:+1000
TZNAME:AEST
DTSTART:20250405T160000
END:STANDARD
BEGIN:DAYLIGHT
TZOFFSETFROM:+1000
TZOFFSETTO:+1100
TZNAME:AEDT
DTSTART:20251004T160000
END:DAYLIGHT
END:VTIMEZONE
BEGIN:VEVENT
DTSTART;TZID=Australia/Sydney:20241129T170000
DTEND;TZID=Australia/Sydney:20250331T210000
DTSTAMP:20260426T124939
CREATED:20241204T063431Z
LAST-MODIFIED:20250416T071118Z
UID:12227-1732899600-1743454800@eastsidebarandgrill.com.au
SUMMARY:$160 Beef Tasting Menu
DESCRIPTION:A journey through the finest cuts of premium beef Experience the pinnacle of fine dining with Eastside’s Beef Tasting Menu. \nThis exquisite journey showcases the finest cuts of premium Australian and Japanese Wagyu\, expertly prepared to highlight their unique flavours and textures. \nFrom perfectly balanced starters to a decadent finale\, each course is a tribute to beef craftsmanship and culinary artistry. \nDiscover the art of exceptional dining\, exclusively at Eastside Grill. BOOK NOW
URL:https://eastsidebarandgrill.com.au/event/beeftastingmenu/
LOCATION:Eastside Bar & Grill\, Level 1\, 2-10 Kensington Street\, Chippendale\, NSW\, 2008
CATEGORIES:Featured,Specials
ATTACH;FMTTYPE=image/jpeg:https://eastsidebarandgrill.com.au/wp-content/uploads/2024/12/Trent-V-5869.jpg
END:VEVENT
END:VCALENDAR