BEGIN:VCALENDAR
VERSION:2.0
PRODID:-//Eastside Bar &amp; Grill - ECPv5.16.4//NONSGML v1.0//EN
CALSCALE:GREGORIAN
METHOD:PUBLISH
X-WR-CALNAME:Eastside Bar &amp; Grill
X-ORIGINAL-URL:https://eastsidebarandgrill.com.au
X-WR-CALDESC:Events for Eastside Bar &amp; Grill
BEGIN:VTIMEZONE
TZID:Australia/Sydney
BEGIN:STANDARD
TZOFFSETFROM:+1100
TZOFFSETTO:+1000
TZNAME:AEST
DTSTART:20240406T160000
END:STANDARD
BEGIN:DAYLIGHT
TZOFFSETFROM:+1000
TZOFFSETTO:+1100
TZNAME:AEDT
DTSTART:20241005T160000
END:DAYLIGHT
END:VTIMEZONE
BEGIN:VEVENT
DTSTART;TZID=Australia/Sydney:20240901T120000
DTEND;TZID=Australia/Sydney:20240901T150000
DTSTAMP:20260426T103658
CREATED:20240815T001051Z
LAST-MODIFIED:20250416T022138Z
UID:12165-1725192000-1725202800@eastsidebarandgrill.com.au
SUMMARY:Father's Day 2024
DESCRIPTION:Treat Dad to the Ultimate Father’s Day LunchDine a la carte or our Father’s Day menu At Eastside Bar & Grill\, we believe that Father’s Day should be about more than just a meal—it should be an experience. From the moment you step through our doors to the final bite of dessert\, we’re here to make sure your celebration is nothing short of extraordinary. \nSo why not give Dad the gift of great food\, great company\, and a day to remember? Join us this Father’s Day at Eastside Bar & Grill and make it an occasion he’ll cherish forever. \nA la carte available. BOOK NOWMORE EVENTSThe Butcher’s BanquetOctober 15\, 2023 - May 31\, 2026$98 T-Bone ThursdaysMarch 7\, 2024 - May 31\, 2026Mother’s Day at EastsideMay 9\, 2025 - May 11\, 2025$88 Eastside StoryJuly 31\, 2025 - March 31\, 2026
URL:https://eastsidebarandgrill.com.au/event/fathers-day-2024/
LOCATION:Eastside Bar & Grill\, Level 1\, 2-10 Kensington Street\, Chippendale\, NSW\, 2008
CATEGORIES:Featured,Specials
ATTACH;FMTTYPE=image/jpeg:https://eastsidebarandgrill.com.au/wp-content/uploads/2024/08/Trent-V-3348-scaled.jpg
END:VEVENT
END:VCALENDAR